




BEGIN:VCALENDAR
VERSION:2.0
PRODID:-//eventon.com NONSGML v1.0//EN
CALSCALE:GREGORIAN
METHOD:PUBLISH
BEGIN:VEVENT
UID:69e7349f37a29
DTSTAMP:20260421T082607Z
DTSTART:20180802T130000Z
DTEND:20180803T230000Z
LOCATION:
SUMMARY:Data Analytics y Blockchain
DESCRIPTION:Hotel San Fernando Plaza\,  Medellín Descarga las Memorias\nht
 tps://fise.co/eventos/data-analytics-y-blockchain/
URL:https://fise.co/eventos/data-analytics-y-blockchain/
END:VEVENT
END:VCALENDAR